Package: Trendy Version: 1.29.0 Command: /Library/Frameworks/R.framework/Resources/bin/R CMD INSTALL Trendy StartedAt: 2025-02-16 15:24:20 -0500 (Sun, 16 Feb 2025) EndedAt: 2025-02-16 15:24:51 -0500 (Sun, 16 Feb 2025) EllapsedTime: 31.8 seconds RetCode: 0 Status: OK