Package: Trendy Version: 1.29.0 Command: /home/biocbuild/R/R/bin/R CMD check --install=check:Trendy.install-out.txt --library=/home/biocbuild/R/R/site-library --no-vignettes --timings Trendy_1.29.0.tar.gz StartedAt: 2025-01-28 16:19:50 -0000 (Tue, 28 Jan 2025) EndedAt: 2025-01-28 16:24:16 -0000 (Tue, 28 Jan 2025) EllapsedTime: 266.3 seconds RetCode: 0 Status: OK CheckDir: Trendy.Rcheck Warnings: 0