Package: TreeSummarizedExperiment Version: 2.17.1 Command: /home/biocbuild/R/R/bin/R CMD INSTALL TreeSummarizedExperiment StartedAt: 2025-10-06 20:36:45 -0000 (Mon, 06 Oct 2025) EndedAt: 2025-10-06 20:37:28 -0000 (Mon, 06 Oct 2025) EllapsedTime: 42.7 seconds RetCode: 0 Status: OK