Package: TreeSummarizedExperiment Version: 2.17.1 Command: /home/biocbuild/R/R/bin/R CMD build --keep-empty-dirs --no-resave-data TreeSummarizedExperiment StartedAt: 2025-10-07 03:40:01 -0000 (Tue, 07 Oct 2025) EndedAt: 2025-10-07 03:41:20 -0000 (Tue, 07 Oct 2025) EllapsedTime: 79.1 seconds RetCode: 0 Status: OK PackageFile: TreeSummarizedExperiment_2.17.1.tar.gz PackageFileSize: 1.057 MiB