Package: TreeSummarizedExperiment Version: 2.17.1 Command: /home/biocbuild/bbs-3.22-bioc/R/bin/R CMD check --install=check:TreeSummarizedExperiment.install-out.txt --library=/home/biocbuild/bbs-3.22-bioc/R/site-library --timings TreeSummarizedExperiment_2.17.1.tar.gz StartedAt: 2025-10-20 05:53:11 -0400 (Mon, 20 Oct 2025) EndedAt: 2025-10-20 05:59:23 -0400 (Mon, 20 Oct 2025) EllapsedTime: 372.3 seconds RetCode: 0 Status: OK CheckDir: TreeSummarizedExperiment.Rcheck Warnings: 0