Package: TreeAndLeaf Version: 1.21.0 Command: /home/biocbuild/R/R/bin/R CMD build --keep-empty-dirs --no-resave-data TreeAndLeaf StartedAt: 2025-10-21 03:50:52 -0000 (Tue, 21 Oct 2025) EndedAt: 2025-10-21 03:51:07 -0000 (Tue, 21 Oct 2025) EllapsedTime: 15.0 seconds RetCode: 0 Status: OK PackageFile: TreeAndLeaf_1.21.0.tar.gz PackageFileSize: 5.646 MiB