Package: TransView Version: 1.51.2 Command: /Library/Frameworks/R.framework/Resources/bin/R CMD INSTALL TransView StartedAt: 2025-02-03 15:17:24 -0500 (Mon, 03 Feb 2025) EndedAt: 2025-02-03 15:17:51 -0500 (Mon, 03 Feb 2025) EllapsedTime: 27.5 seconds RetCode: 0 Status: OK