Package: TransView Version: 1.51.2 Command: rm -rf TransView.buildbin-libdir && mkdir TransView.buildbin-libdir && /Users/biocbuild/BBS/utils/build-universal.sh TransView_1.51.2.tar.gz /Library/Frameworks/R.framework/Resources/bin/R TransView.buildbin-libdir StartedAt: 2025-02-04 01:01:04 -0500 (Tue, 04 Feb 2025) EndedAt: 2025-02-04 01:01:33 -0500 (Tue, 04 Feb 2025) EllapsedTime: 28.9 seconds RetCode: 0 Status: OK PackageFile: TransView_1.51.2.tgz PackageFileSize: 2.135 MiB