Package: TransView Version: 1.51.2 Command: /home/biocbuild/R/R/bin/R CMD INSTALL TransView StartedAt: 2025-01-29 19:43:59 -0000 (Wed, 29 Jan 2025) EndedAt: 2025-01-29 19:44:23 -0000 (Wed, 29 Jan 2025) EllapsedTime: 23.9 seconds RetCode: 0 Status: OK