Package: TrajectoryUtils Version: 1.17.0 Command: /home/biocbuild/R/R/bin/R CMD build --keep-empty-dirs --no-resave-data TrajectoryUtils StartedAt: 2025-10-03 03:55:10 -0000 (Fri, 03 Oct 2025) EndedAt: 2025-10-03 03:55:54 -0000 (Fri, 03 Oct 2025) EllapsedTime: 44.0 seconds RetCode: 0 Status: OK PackageFile: TrajectoryUtils_1.17.0.tar.gz PackageFileSize: 394.2 KiB