Package: TrajectoryUtils Version: 1.17.0 Command: /home/biocbuild/bbs-3.22-bioc/R/bin/R CMD check --install=check:TrajectoryUtils.install-out.txt --library=/home/biocbuild/bbs-3.22-bioc/R/site-library --timings TrajectoryUtils_1.17.0.tar.gz StartedAt: 2025-10-09 05:43:35 -0400 (Thu, 09 Oct 2025) EndedAt: 2025-10-09 05:46:32 -0400 (Thu, 09 Oct 2025) EllapsedTime: 177.1 seconds RetCode: 0 Status: OK CheckDir: TrajectoryUtils.Rcheck Warnings: 0