Package: TrajectoryUtils Version: 1.17.0 Command: /Library/Frameworks/R.framework/Resources/bin/R CMD INSTALL TrajectoryUtils StartedAt: 2025-05-18 15:24:45 -0400 (Sun, 18 May 2025) EndedAt: 2025-05-18 15:25:17 -0400 (Sun, 18 May 2025) EllapsedTime: 32.1 seconds RetCode: 0 Status: OK