Package: TrajectoryUtils Version: 1.17.0 Command: /Library/Frameworks/R.framework/Resources/bin/R CMD build --keep-empty-dirs --no-resave-data TrajectoryUtils StartedAt: 2025-05-20 18:36:37 -0400 (Tue, 20 May 2025) EndedAt: 2025-05-20 18:37:16 -0400 (Tue, 20 May 2025) EllapsedTime: 38.8 seconds RetCode: 0 Status: OK PackageFile: TrajectoryUtils_1.17.0.tar.gz PackageFileSize: 341.8 KiB