Package: TrajectoryUtils Version: 1.17.0 Command: /Library/Frameworks/R.framework/Resources/bin/R CMD INSTALL TrajectoryUtils StartedAt: 2025-05-22 15:14:52 -0400 (Thu, 22 May 2025) EndedAt: 2025-05-22 15:15:02 -0400 (Thu, 22 May 2025) EllapsedTime: 10.2 seconds RetCode: 0 Status: OK