Package: TrajectoryUtils Version: 1.17.0 Command: /Library/Frameworks/R.framework/Resources/bin/R CMD build --keep-empty-dirs --no-resave-data TrajectoryUtils StartedAt: 2025-05-22 17:44:43 -0400 (Thu, 22 May 2025) EndedAt: 2025-05-22 17:44:59 -0400 (Thu, 22 May 2025) EllapsedTime: 15.2 seconds RetCode: 0 Status: OK PackageFile: TrajectoryUtils_1.17.0.tar.gz PackageFileSize: 341.5 KiB