Package: TrajectoryGeometry Version: 1.17.0 Command: /Library/Frameworks/R.framework/Resources/bin/R CMD build --keep-empty-dirs --no-resave-data TrajectoryGeometry StartedAt: 2025-05-09 17:59:06 -0400 (Fri, 09 May 2025) EndedAt: 2025-05-09 18:00:46 -0400 (Fri, 09 May 2025) EllapsedTime: 100.2 seconds RetCode: 0 Status: OK PackageFile: TrajectoryGeometry_1.17.0.tar.gz PackageFileSize: 1.894 MiB