Package: TrIdent Version: 0.99.3 Command: rm -rf TrIdent.buildbin-libdir && mkdir TrIdent.buildbin-libdir && E:\biocbuild\bbs-3.21-bioc\R\bin\R.exe CMD INSTALL --build --library=TrIdent.buildbin-libdir TrIdent_0.99.3.tar.gz StartedAt: 2025-02-06 09:15:11 -0500 (Thu, 06 Feb 2025) EndedAt: 2025-02-06 09:18:14 -0500 (Thu, 06 Feb 2025) EllapsedTime: 183.4 seconds RetCode: 0 Status: OK PackageFile: TrIdent_0.99.3.zip PackageFileSize: 2.725 MiB