Package: TrIdent Version: 0.99.3 Command: /home/biocbuild/bbs-3.21-bioc/R/bin/R CMD build --keep-empty-dirs --no-resave-data TrIdent StartedAt: 2025-02-05 19:39:46 -0500 (Wed, 05 Feb 2025) EndedAt: 2025-02-05 19:40:29 -0500 (Wed, 05 Feb 2025) EllapsedTime: 43.1 seconds RetCode: 0 Status: OK PackageFile: TrIdent_0.99.3.tar.gz PackageFileSize: 1.609 MiB