Package: TrIdent Version: 0.99.3 Command: /Library/Frameworks/R.framework/Resources/bin/R CMD INSTALL TrIdent StartedAt: 2025-02-05 15:07:09 -0500 (Wed, 05 Feb 2025) EndedAt: 2025-02-05 15:07:13 -0500 (Wed, 05 Feb 2025) EllapsedTime: 4.2 seconds RetCode: 0 Status: OK