Package: TrIdent Version: 1.1.0 Command: /Library/Frameworks/R.framework/Resources/bin/R CMD check --install=check:TrIdent.install-out.txt --library=/Library/Frameworks/R.framework/Resources/library --no-vignettes --timings TrIdent_1.1.0.tar.gz StartedAt: 2025-04-27 21:54:01 -0400 (Sun, 27 Apr 2025) EndedAt: 2025-04-27 21:54:33 -0400 (Sun, 27 Apr 2025) EllapsedTime: 32.4 seconds RetCode: 0 Status: OK CheckDir: TrIdent.Rcheck Warnings: 0