Package: ToxicoGx Version: 2.13.0 Command: /home/biocbuild/bbs-3.22-bioc/R/bin/R CMD INSTALL ToxicoGx StartedAt: 2025-10-19 15:25:02 -0400 (Sun, 19 Oct 2025) EndedAt: 2025-10-19 15:25:40 -0400 (Sun, 19 Oct 2025) EllapsedTime: 37.2 seconds RetCode: 0 Status: OK