Package: ToxicoGx Version: 2.13.0 Command: /home/biocbuild/bbs-3.22-bioc/R/bin/R CMD build --keep-empty-dirs --no-resave-data --md5 ToxicoGx StartedAt: 2025-10-17 20:29:47 -0400 (Fri, 17 Oct 2025) EndedAt: 2025-10-17 20:30:38 -0400 (Fri, 17 Oct 2025) EllapsedTime: 51.1 seconds RetCode: 0 Status: OK PackageFile: ToxicoGx_2.13.0.tar.gz PackageFileSize: 3.931 MiB