Package: ToxicoGx Version: 2.11.0 Command: /Library/Frameworks/R.framework/Resources/bin/R CMD INSTALL ToxicoGx StartedAt: 2025-02-03 15:38:52 -0500 (Mon, 03 Feb 2025) EndedAt: 2025-02-03 15:39:39 -0500 (Mon, 03 Feb 2025) EllapsedTime: 47.3 seconds RetCode: 0 Status: OK