Package: ToxicoGx Version: 2.11.0 Command: rm -rf ToxicoGx.buildbin-libdir && mkdir ToxicoGx.buildbin-libdir && /Users/biocbuild/BBS/utils/build-universal.sh ToxicoGx_2.11.0.tar.gz /Library/Frameworks/R.framework/Resources/bin/R ToxicoGx.buildbin-libdir StartedAt: 2025-02-04 01:00:52 -0500 (Tue, 04 Feb 2025) EndedAt: 2025-02-04 01:01:45 -0500 (Tue, 04 Feb 2025) EllapsedTime: 52.2 seconds RetCode: 0 Status: OK PackageFile: ToxicoGx_2.11.0.tgz PackageFileSize: 4.412 MiB