Package: ToxicoGx Version: 2.11.0 Command: /home/biocbuild/R/R/bin/R CMD check --install=check:ToxicoGx.install-out.txt --library=/home/biocbuild/R/R/site-library --no-vignettes --timings ToxicoGx_2.11.0.tar.gz StartedAt: 2025-01-28 16:13:23 -0000 (Tue, 28 Jan 2025) EndedAt: 2025-01-28 16:19:33 -0000 (Tue, 28 Jan 2025) EllapsedTime: 369.5 seconds RetCode: 0 Status: OK CheckDir: ToxicoGx.Rcheck Warnings: 0