Package: TnT Version: 1.31.0 Command: /home/biocbuild/bbs-3.22-bioc/R/bin/R CMD INSTALL TnT StartedAt: 2025-10-17 15:15:18 -0400 (Fri, 17 Oct 2025) EndedAt: 2025-10-17 15:15:31 -0400 (Fri, 17 Oct 2025) EllapsedTime: 13.0 seconds RetCode: 0 Status: OK