Package: TitanCNA Version: 1.47.1 Command: /home/biocbuild/bbs-3.22-bioc/R/bin/R CMD INSTALL TitanCNA StartedAt: 2025-10-07 15:43:17 -0400 (Tue, 07 Oct 2025) EndedAt: 2025-10-07 15:44:01 -0400 (Tue, 07 Oct 2025) EllapsedTime: 43.6 seconds RetCode: 0 Status: OK