Package: TitanCNA Version: 1.47.1 Command: /home/biocbuild/bbs-3.22-bioc/R/bin/R CMD build --keep-empty-dirs --no-resave-data --md5 TitanCNA StartedAt: 2025-10-07 20:35:20 -0400 (Tue, 07 Oct 2025) EndedAt: 2025-10-07 20:36:37 -0400 (Tue, 07 Oct 2025) EllapsedTime: 77.2 seconds RetCode: 1 Status: ERROR PackageFile: None PackageFileSize: NA