Package: TitanCNA Version: 1.45.0 Command: /home/biocbuild/R/R/bin/R CMD build --keep-empty-dirs --no-resave-data TitanCNA StartedAt: 2025-01-28 02:56:35 -0000 (Tue, 28 Jan 2025) EndedAt: 2025-01-28 02:58:34 -0000 (Tue, 28 Jan 2025) EllapsedTime: 119.0 seconds RetCode: 0 Status: OK PackageFile: TitanCNA_1.45.0.tar.gz PackageFileSize: 3.786 MiB