Package: TitanCNA Version: 1.45.0 Maintainer: Gavin Ha MaintainerEmail: gha at fredhutch.org git_url: https://git.bioconductor.org/packages/TitanCNA git_branch: devel git_last_commit: 19f37d4 git_last_commit_date: 2024-10-29 09:51:45 -0500 (Tue, 29 Oct 2024)