Package: TissueEnrich Version: 1.27.0 Command: rm -rf TissueEnrich.buildbin-libdir && mkdir TissueEnrich.buildbin-libdir && E:\biocbuild\bbs-3.21-bioc\R\bin\R.exe CMD INSTALL --build --library=TissueEnrich.buildbin-libdir TissueEnrich_1.27.0.tar.gz StartedAt: 2025-01-11 08:47:03 -0500 (Sat, 11 Jan 2025) EndedAt: 2025-01-11 08:47:35 -0500 (Sat, 11 Jan 2025) EllapsedTime: 32.3 seconds RetCode: 0 Status: OK PackageFile: TissueEnrich_1.27.0.zip PackageFileSize: 3.363 MiB