Package: TissueEnrich Version: 1.27.0 Command: rm -rf TissueEnrich.buildbin-libdir && mkdir TissueEnrich.buildbin-libdir && /Users/biocbuild/BBS/utils/build-universal.sh TissueEnrich_1.27.0.tar.gz /Library/Frameworks/R.framework/Resources/bin/R TissueEnrich.buildbin-libdir StartedAt: 2025-01-11 00:51:35 -0500 (Sat, 11 Jan 2025) EndedAt: 2025-01-11 00:52:18 -0500 (Sat, 11 Jan 2025) EllapsedTime: 42.6 seconds RetCode: 0 Status: OK PackageFile: TissueEnrich_1.27.0.tgz PackageFileSize: 3.628 MiB