Package: TileDBArray Version: 1.17.0 Command: chmod a+r TileDBArray -R && E:\biocbuild\bbs-3.21-bioc\R\bin\R.exe CMD build --keep-empty-dirs --no-resave-data TileDBArray StartedAt: 2025-02-16 21:59:13 -0500 (Sun, 16 Feb 2025) EndedAt: 2025-02-16 22:00:17 -0500 (Sun, 16 Feb 2025) EllapsedTime: 63.9 seconds RetCode: 0 Status: OK PackageFile: TileDBArray_1.17.0.tar.gz PackageFileSize: 305.3 KiB