Package: TileDBArray Version: 1.17.0 Command: rm -rf TileDBArray.buildbin-libdir && mkdir TileDBArray.buildbin-libdir && E:\biocbuild\bbs-3.21-bioc\R\bin\R.exe CMD INSTALL --build --library=TileDBArray.buildbin-libdir TileDBArray_1.17.0.tar.gz StartedAt: 2025-02-17 08:40:22 -0500 (Mon, 17 Feb 2025) EndedAt: 2025-02-17 08:41:09 -0500 (Mon, 17 Feb 2025) EllapsedTime: 47.5 seconds RetCode: 0 Status: OK PackageFile: TileDBArray_1.17.0.zip PackageFileSize: 750.9 KiB