Package: TileDBArray Version: 1.17.0 Command: /home/biocbuild/bbs-3.21-bioc/R/bin/R CMD build --keep-empty-dirs --no-resave-data TileDBArray StartedAt: 2025-02-16 19:29:28 -0500 (Sun, 16 Feb 2025) EndedAt: 2025-02-16 19:29:58 -0500 (Sun, 16 Feb 2025) EllapsedTime: 30.0 seconds RetCode: 0 Status: OK PackageFile: TileDBArray_1.17.0.tar.gz PackageFileSize: 305.2 KiB