Package: TileDBArray Version: 1.17.0 Command: /Library/Frameworks/R.framework/Resources/bin/R CMD check --install=check:TileDBArray.install-out.txt --library=/Library/Frameworks/R.framework/Resources/library --no-vignettes --timings TileDBArray_1.17.0.tar.gz StartedAt: 2025-02-16 21:43:22 -0500 (Sun, 16 Feb 2025) EndedAt: 2025-02-16 21:44:19 -0500 (Sun, 16 Feb 2025) EllapsedTime: 56.7 seconds RetCode: 0 Status: OK CheckDir: TileDBArray.Rcheck Warnings: 0