Package: TileDBArray Version: 1.19.0 Maintainer: Aaron Lun MaintainerEmail: infinite.monkeys.with.keyboards at gmail.com git_url: https://git.bioconductor.org/packages/TileDBArray git_branch: devel git_last_commit: 4239c60 git_last_commit_date: 2025-04-15 12:09:08 -0400 (Tue, 15 Apr 2025)