Package: TaxSEA Version: 1.1.9 Command: /home/biocbuild/bbs-3.22-bioc/R/bin/R CMD build --keep-empty-dirs --no-resave-data --md5 TaxSEA StartedAt: 2025-10-28 20:26:47 -0400 (Tue, 28 Oct 2025) EndedAt: 2025-10-28 20:26:59 -0400 (Tue, 28 Oct 2025) EllapsedTime: 12.0 seconds RetCode: 0 Status: OK PackageFile: TaxSEA_1.1.9.tar.gz PackageFileSize: 351.5 KiB