Package: TargetSearch Version: 2.9.1 Command: E:\biocbuild\bbs-3.21-bioc\R\bin\R.exe CMD check --no-multiarch --install=check:TargetSearch.install-out.txt --library=E:\biocbuild\bbs-3.21-bioc\R\library --no-vignettes --timings TargetSearch_2.9.1.tar.gz StartedAt: 2025-02-04 06:31:26 -0500 (Tue, 04 Feb 2025) EndedAt: 2025-02-04 06:33:24 -0500 (Tue, 04 Feb 2025) EllapsedTime: 117.5 seconds RetCode: 0 Status: OK CheckDir: TargetSearch.Rcheck Warnings: 0