Package: TargetSearch Version: 2.9.1 Command: /home/biocbuild/bbs-3.21-bioc/R/bin/R CMD INSTALL TargetSearch StartedAt: 2025-02-16 15:08:26 -0500 (Sun, 16 Feb 2025) EndedAt: 2025-02-16 15:08:38 -0500 (Sun, 16 Feb 2025) EllapsedTime: 11.7 seconds RetCode: 0 Status: OK