Package: TargetSearch Version: 2.9.1 Command: /home/biocbuild/R/R/bin/R CMD build --keep-empty-dirs --no-resave-data TargetSearch StartedAt: 2025-01-28 02:52:26 -0000 (Tue, 28 Jan 2025) EndedAt: 2025-01-28 02:52:58 -0000 (Tue, 28 Jan 2025) EllapsedTime: 32.0 seconds RetCode: 0 Status: OK PackageFile: TargetSearch_2.9.1.tar.gz PackageFileSize: 705.6 KiB