Package: TargetScore Version: 1.47.0 Command: /Library/Frameworks/R.framework/Resources/bin/R CMD INSTALL TargetScore StartedAt: 2025-07-25 15:03:45 -0400 (Fri, 25 Jul 2025) EndedAt: 2025-07-25 15:03:48 -0400 (Fri, 25 Jul 2025) EllapsedTime: 2.8 seconds RetCode: 0 Status: OK