Package: TVTB Version: 1.33.0 Command: /home/biocbuild/bbs-3.21-bioc/R/bin/R CMD build --keep-empty-dirs --no-resave-data TVTB StartedAt: 2025-02-03 19:49:13 -0500 (Mon, 03 Feb 2025) EndedAt: 2025-02-03 19:50:55 -0500 (Mon, 03 Feb 2025) EllapsedTime: 102.1 seconds RetCode: 0 Status: OK PackageFile: TVTB_1.33.0.tar.gz PackageFileSize: 1.528 MiB