Package: TVTB Version: 1.33.0 Command: /home/biocbuild/R/R/bin/R CMD check --install=check:TVTB.install-out.txt --library=/home/biocbuild/R/R/site-library --no-vignettes --timings TVTB_1.33.0.tar.gz StartedAt: 2025-01-27 13:43:53 -0000 (Mon, 27 Jan 2025) EndedAt: 2025-01-27 13:54:15 -0000 (Mon, 27 Jan 2025) EllapsedTime: 622.3 seconds RetCode: 0 Status: WARNINGS CheckDir: TVTB.Rcheck Warnings: 5