Package: TVTB Version: 1.33.0 Command: /Library/Frameworks/R.framework/Resources/bin/R CMD check --install=check:TVTB.install-out.txt --library=/Library/Frameworks/R.framework/Resources/library --no-vignettes --timings TVTB_1.33.0.tar.gz StartedAt: 2025-02-03 22:27:28 -0500 (Mon, 03 Feb 2025) EndedAt: 2025-02-03 22:30:00 -0500 (Mon, 03 Feb 2025) EllapsedTime: 151.8 seconds RetCode: 0 Status: OK CheckDir: TVTB.Rcheck Warnings: 0