Package: TTMap Version: 1.31.0 Command: rm -rf TTMap.buildbin-libdir && mkdir TTMap.buildbin-libdir && F:\biocbuild\bbs-3.22-bioc\R\bin\R.exe CMD INSTALL --build --library=TTMap.buildbin-libdir TTMap_1.31.0.tar.gz StartedAt: 2025-08-15 11:32:48 -0400 (Fri, 15 Aug 2025) EndedAt: 2025-08-15 11:33:28 -0400 (Fri, 15 Aug 2025) EllapsedTime: 40.5 seconds RetCode: 0 Status: OK PackageFile: TTMap_1.31.0.zip PackageFileSize: 1.393 MiB