Package: TSCAN Version: 1.47.0 Command: /home/biocbuild/bbs-3.22-bioc/R/bin/R CMD INSTALL TSCAN StartedAt: 2025-10-02 15:39:06 -0400 (Thu, 02 Oct 2025) EndedAt: 2025-10-02 15:39:35 -0400 (Thu, 02 Oct 2025) EllapsedTime: 29.1 seconds RetCode: 0 Status: OK