Package: TSCAN Version: 1.47.0 Command: /home/biocbuild/bbs-3.22-bioc/R/bin/R CMD build --keep-empty-dirs --no-resave-data --md5 TSCAN StartedAt: 2025-10-02 20:36:30 -0400 (Thu, 02 Oct 2025) EndedAt: 2025-10-02 20:37:15 -0400 (Thu, 02 Oct 2025) EllapsedTime: 45.0 seconds RetCode: 0 Status: OK PackageFile: TSCAN_1.47.0.tar.gz PackageFileSize: 2.68 MiB