Package: TSAR Version: 1.7.0 Command: /home/biocbuild/bbs-3.22-bioc/R/bin/R CMD INSTALL TSAR StartedAt: 2025-10-08 15:20:51 -0400 (Wed, 08 Oct 2025) EndedAt: 2025-10-08 15:21:02 -0400 (Wed, 08 Oct 2025) EllapsedTime: 10.9 seconds RetCode: 0 Status: OK