Package: TSAR Version: 1.5.0 Command: /Library/Frameworks/R.framework/Resources/bin/R CMD check --install=check:TSAR.install-out.txt --library=/Library/Frameworks/R.framework/Resources/library --no-vignettes --timings TSAR_1.5.0.tar.gz StartedAt: 2025-02-16 23:44:03 -0500 (Sun, 16 Feb 2025) EndedAt: 2025-02-16 23:46:46 -0500 (Sun, 16 Feb 2025) EllapsedTime: 163.1 seconds RetCode: 0 Status: OK CheckDir: TSAR.Rcheck Warnings: 0